BEGIN:VCALENDAR
VERSION:2.0
PRODID:-//Logan Square Auditorium - ECPv4.9.3.1//NONSGML v1.0//EN
CALSCALE:GREGORIAN
METHOD:PUBLISH
X-WR-CALNAME:Logan Square Auditorium
X-ORIGINAL-URL:http://logansquareauditorium.com
X-WR-CALDESC:Events for Logan Square Auditorium
BEGIN:VEVENT
DTSTART;TZID=America/Chicago:20211022T190000
DTEND;TZID=America/Chicago:20211022T230000
DTSTAMP:20260420T084324
CREATED:20210929T211443Z
LAST-MODIFIED:20210929T212806Z
UID:5385-1634929200-1634943600@logansquareauditorium.com
SUMMARY:Freelance Wrestling Presents: Killer Klown from Logan Square
DESCRIPTION:Freelance Wrestling presents Killer Klown from Logan Square\nFriday Oct 22nd\, 2021\n\n\nTICKETS\n\n\nTickets: freelancechicago.ticketleap.com/klown\nWebsite: freelancewrestling.com\nFB Event Page: https://www.facebook.com/events/828439581089432\n\n\nLogan Square Auditorium\n2539 N Kedzie Blvd\nChicago\,IL\n\nDoors: 7pm\nBell: 8pm\n1st Row – $30\n2nd Row – $25\nGA – $20\n\n\n*CARD SUBJECT TO CHANGE WITHOUT NOTICE*\n
URL:http://logansquareauditorium.com/event/freelance-wrestling-presents-killer-klown-from-logan-square/
LOCATION:Logan Square Auditorium\, Chicago\, IL\, United States
ATTACH;FMTTYPE=image/jpeg:http://logansquareauditorium.com/wp-content/uploads/2021/09/Freelance-Killer-Klown-2021-Web.jpg
END:VEVENT
END:VCALENDAR