BEGIN:VCALENDAR
VERSION:2.0
PRODID:-//Logan Square Auditorium - ECPv4.9.3.1//NONSGML v1.0//EN
CALSCALE:GREGORIAN
METHOD:PUBLISH
X-WR-CALNAME:Logan Square Auditorium
X-ORIGINAL-URL:http://logansquareauditorium.com
X-WR-CALDESC:Events for Logan Square Auditorium
BEGIN:VEVENT
DTSTART;TZID=America/Chicago:20190727T210000
DTEND;TZID=America/Chicago:20190727T235900
DTSTAMP:20260422T102602
CREATED:20190724T210302Z
LAST-MODIFIED:20190724T210302Z
UID:5274-1564261200-1564271940@logansquareauditorium.com
SUMMARY:CLLAW A Midsummer Night's Smack Down
DESCRIPTION:The Chicago League of Lady Arm Wrestlers (CLLAW) is back on Saturday\, July 27\, 2019 at Chicago’s Logan Square Auditorium! Doors open at 9pm; the first match begins at 9:30pm. \n*PLEASE NOTE: This event is 21+ only.* \nCLLAW’s 33rd match will feature Chicago’s biggest\, baddest lady-identified arm wrestlers and live musical entertainment\, and will benefit Sideshow Theatre Company and Girls Rock! Chicago. \nTickets are $20 in advance and $25 at the door (the ladies will gladly take cash or credit at the door). Half-price CLLAWBux available online only! A CASH-ONLY bar is available at the venue with your favorite adult beverage. \n
URL:http://logansquareauditorium.com/event/cllaw-a-midsummer-nights-smack-down/
LOCATION:Logan Square Auditorium\, Chicago\, IL\, United States
ATTACH;FMTTYPE=image/jpeg:http://logansquareauditorium.com/wp-content/uploads/2019/07/CLLAW_072719.jpg
END:VEVENT
END:VCALENDAR